BEGIN:VCALENDAR
VERSION:2.0
PRODID:-//ChamberMaster//Event Calendar 2.0//EN
METHOD:PUBLISH
X-PUBLISHED-TTL:P1H
REFRESH-INTERVAL:P1H
CALSCALE:GREGORIAN
BEGIN:VTIMEZONE
TZID:America/Phoenix
BEGIN:DAYLIGHT
DTSTART:20070311T020000
TZOFFSETFROM:-0700
TZOFFSETTO:-0700
TZNAME:(UTC-07:00) Arizona
END:DAYLIGHT
BEGIN:STANDARD
DTSTART:20071104T020000
TZOFFSETFROM:-0700
TZOFFSETTO:-0700
TZNAME:(UTC-07:00) Arizona
END:STANDARD
END:VTIMEZONE
BEGIN:VEVENT
DTSTART;TZID=America/Phoenix:20260424T103000
DTEND;TZID=America/Phoenix:20260424T133000
X-MICROSOFT-CDO-ALLDAYEVENT:FALSE
SUMMARY:Spring Into Action
DESCRIPTION:Health and Resource Fair
X-ALT-DESC;FMTTYPE=text/html:Health and Resource Fair
LOCATION:2536 S Kolb Road Tucson AZ 85745
UID:e.2687.1450594
SEQUENCE:3
DTSTAMP:20260424T105828Z
URL:https://business.tucsonchamber.org/events/Details/spring-into-action-1718246?sourceTypeId=Hub
END:VEVENT
END:VCALENDAR
